BEGIN:VCALENDAR
VERSION:2.0
PRODID:-//Library Market//iCal Export//EN
BEGIN:VEVENT
SUMMARY:Makers Monday: Cherry Blossom Wind Catchers
UID:39621
DTSTAMP:20260423T214700Z
DTSTART:20260511T223000Z
DTEND:20260511T233000Z
LOCATION:640 Orange Ave., Coronado, CA 92118, United States
ROOM: Ruby Room
DESCRIPTION:Celebrate AAPI month with a cherry blossom inspired wind Catch
 er! Use tissuepaper, pipe cleaners, and crepe paper to make cherry blossom
 s that will never fall in the wind. 
URL:https://coronado.librarycalendar.com/event/childrens-programming-39621
END:VEVENT
END:VCALENDAR
