BEGIN:VCALENDAR
VERSION:2.0
PRODID:-//Library Market//iCal Export//EN
BEGIN:VEVENT
SUMMARY:Community Job Fair
UID:43639
DTSTAMP:20260423T224700Z
DTSTART:20260422T190000Z
DTEND:20260422T230000Z
LOCATION:640 Orange Ave., Coronado, CA 92118, United States
ROOM: Winn Room
DESCRIPTION:Discover CoronadoÂ is hosting a free, community-wide job fairÂ
  connecting jobseekers with a wide range of open positions from Coronado-b
 ased employers. Opportunities include everything from full-time careers wi
 th benefitsÂ to part-time and seasonal summer jobsâ€”perfect for students,
  first-time job seekers, and anyone looking for flexible work.Students age
 d 16 and up are encouraged to attend, as the City of Coronado Recreation D
 epartment will have age-appropriate positions available.This event is open
  to everyone, regardless of work experience, education level, current empl
 oyment status, or physical ability. Whether youâ€™re looking for a first j
 ob, a second job, a career change, or flexible hours, thereâ€™s something 
 for you. Retired residents are also encouraged to attendÂ to explore roles
  that value their experience and skills.Representatives from Coronadoâ€™s 
 four largest resortsâ€”Hotel del Coronado, Loews Coronado Bay Resort, Coro
 nado Island Marriott Resort &amp; Spa, and Glorietta Bay Innâ€”will be ons
 ite to discuss current openings, answer questions, and accept applications
 . Theyâ€™ll be joined by approximately 10 local restaurants, retailers, an
 d service businesses, along with the City of Coronado, which will be promo
 ting openings at the Community Center and other city facilities.This commu
 nity partnership led by Discover CoronadoÂ is designed to help jobseekers 
 find meaningful employment right here on the island.For more information, 
 please visit:Â https://discovercoronado.com/coronado-job-fair/
URL:https://coronado.librarycalendar.com/event/event-hold-43639
END:VEVENT
END:VCALENDAR
