BEGIN:VCALENDAR
VERSION:2.0
PRODID:-//Library Market//iCal Export//EN
BEGIN:VEVENT
SUMMARY:May the Fourth be with You
UID:43748
DTSTAMP:20260426T002300Z
DTSTART:20260504T223000Z
DTEND:20260505T000000Z
LOCATION:640 Orange Ave., Coronado, CA 92118, United States
ROOM: Winn Room
DESCRIPTION:The 501st legion is once again invading the Coronado Public Li
 brary and your help is needed! Come dressed in your best Star Wars attire 
 and prepare for snacks, pictures, a craft and all things Star Wars! Will 
 you join the Rebels, or fight for the Empire? 
URL:https://coronado.librarycalendar.com/event/star-wars-day-43748
END:VEVENT
END:VCALENDAR
