BEGIN:VCALENDAR
VERSION:2.0
PRODID:-//Library Market//iCal Export//EN
BEGIN:VEVENT
SUMMARY:Tween Takeover: Meditation Bottles
UID:43912
DTSTAMP:20260423T224700Z
DTSTART:20260508T223000Z
DTEND:20260508T233000Z
LOCATION:640 Orange Ave., Coronado, CA 92118, United States
ROOM: Ruby Room
DESCRIPTION:It&#039;s Tween Takeover at the library!* Drop by the second F
 riday of the month for a tween takeover including but not limited to... cr
 afts, snacks, flicks, games, and more! Each month Tween Takeover will chan
 ge, so check in to see what is to come! This Month...Celebrate Mental Hea
 lth Month with your own meditation bottle. Need to cool off? Shake it, wat
 ch the glitter swirl and breathe! *This program is heavily geared for kid
 s aged 8-13. 
URL:https://coronado.librarycalendar.com/event/tween-takeover-43912
END:VEVENT
END:VCALENDAR
